BEGIN:VCALENDAR
VERSION:2.0
METHOD:PUBLISH
PRODID:-//Virginia Tech//VTCalendar//EN
X-WR-CALNAME;VALUE=TEXT:Etkinlikler_Takvimi
BEGIN:VEVENT
DTSTAMP:20171012T070000Z
UID:1506513330340@https://www.cankaya.edu.tr/takvim/
CATEGORIES:TanÄ±tÄ±m StandÄ±
DTSTART:20171012T070000Z
DTEND:20171012T140000Z
SUMMARY:Ã–ÄŸrenci TopluluklarÄ± TanÄ±tÄ±m GÃ¼nÃ¼
DESCRIPTION: EtkinliÄŸi DÃ¼zenleyen: Kariyer Planlama ve KÃ¼ltÃ¼r Ä°ÅŸleri MÃ¼dÃ¼rlÃ¼ÄŸÃ¼\n
LOCATION:Merkez KampÃ¼s Ortak Alan
END:VEVENT
END:VCALENDAR
