BEGIN:VCALENDAR
VERSION:2.0
METHOD:PUBLISH
PRODID:-//Virginia Tech//VTCalendar//EN
X-WR-CALNAME;VALUE=TEXT:Etkinlikler_Takvimi
BEGIN:VEVENT
DTSTAMP:20200228T210000Z
UID:1582631403613@https://www.cankaya.edu.tr/takvim/
CATEGORIES:MÃ¼nazara
DTSTART;VALUE=DATE:20200228
DTEND;VALUE=DATE:20200229
SUMMARY:VII. Open MÃ¼nazara TurnuvasÄ±
DESCRIPTION: EtkinliÄŸi DÃ¼zenleyen: Kariyer Planlama ve KÃ¼ltÃ¼r Ä°ÅŸleri MÃ¼dÃ¼rlÃ¼ÄŸÃ¼\n
LOCATION:Balgat KampÃ¼s
END:VEVENT
END:VCALENDAR
