BEGIN:VCALENDAR
VERSION:2.0
METHOD:PUBLISH
PRODID:-//Virginia Tech//VTCalendar//EN
X-WR-CALNAME;VALUE=TEXT:Etkinlikler_Takvimi
BEGIN:VEVENT
DTSTAMP:20211103T070000Z
UID:1634894722417@https://www.cankaya.edu.tr/takvim/
CATEGORIES:Ã–nemli GÃ¼nler ve Haftalar
DTSTART:20211103T070000Z
DTEND:20211103T140000Z
SUMMARY:Kan DostlarÄ±mÄ±za Hayat Veriyoruz
DESCRIPTION:Ã‡ankaya Ãœniversitesi olarak â€˜Kan DostlarÄ±mÄ±za 
 Hayat Veriyoruz.â€™\n
 TÃ¼rk KÄ±zÄ±layâ€™Ä±, 
 3 KasÄ±m 2021 Ã‡arÅŸamba gÃ¼nÃ¼ 10.00-17.00 
 saatleri arasÄ±nda Merkez KampÃ¼s Ortak Alanâ€™da 
 aÄŸÄ±rlÄ±yoruz. TÃ¼m Ã–ÄŸrencilerimiz, 
 Akademik ve Ä°dari personelimizi kan baÄŸÄ±ÅŸ 
 kampanyasÄ±na katÄ±lmaya davet ediyoruz.\n
 \n\n
 EtkinliÄŸi DÃ¼zenleyen: Kariyer Planlama ve KÃ¼ltÃ¼r Ä°ÅŸleri MÃ¼dÃ¼rlÃ¼ÄŸÃ¼\n
LOCATION:Merkez KampÃ¼s Ortak Alan
END:VEVENT
END:VCALENDAR
