BEGIN:VCALENDAR
VERSION:2.0
METHOD:PUBLISH
PRODID:-//Virginia Tech//VTCalendar//EN
X-WR-CALNAME;VALUE=TEXT:Etkinlikler_Takvimi
BEGIN:VEVENT
DTSTAMP:20260430T060000Z
UID:1774355782858@https://www.cankaya.edu.tr/takvim/
CATEGORIES:Fuar
DTSTART:20260430T060000Z
DTEND:20260430T100000Z
SUMMARY:AydÄ±n Kurs Geleneksel Ãœniversite TanÄ±tÄ±m FuarÄ±
DESCRIPTION:Ãœniversitemiz, 30 Nisan 2026 PerÅŸembe gÃ¼nÃ¼ 
 09.00-13.00 saatleri arasÄ±nda AydÄ±n Kurs tarafÄ±ndan 
 Cermodern'de gerÃ§ekleÅŸtirilecek 
 Ãœniversite TanÄ±tÄ±m FuarÄ±'nda aday Ã¶ÄŸrencilerle 
 buluÅŸacak.\n\n
 EtkinliÄŸi DÃ¼zenleyen: TanÄ±tÄ±m ve Kurumsal Ä°liÅŸkiler MÃ¼dÃ¼rlÃ¼ÄŸÃ¼\n
 Ä°letiÅŸim: Seher CERLET KASIM\n
 Telefon: 233 15 22\n
 E-Posta: scerlet@cankaya.edu.tr\n
LOCATION:Ãœniversite DÄ±ÅŸÄ±
END:VEVENT
END:VCALENDAR
