BEGIN:VCALENDAR
VERSION:2.0
METHOD:PUBLISH
PRODID:-//Virginia Tech//VTCalendar//EN
X-WR-CALNAME;VALUE=TEXT:Etkinlikler_Takvimi
BEGIN:VEVENT
DTSTAMP:20260423T210000Z
UID:1775022967176-0001@https://www.cankaya.edu.tr/takvim/
CATEGORIES:Festival
DTSTART;VALUE=DATE:20260423
DTEND;VALUE=DATE:20260424
SUMMARY: 5. UluslararasÄ± Ankara Marka BuluÅŸmalarÄ± 
DESCRIPTION:Ankara Ticaret OdasÄ± (ATO) tarafÄ±ndan  24â€“25 
 Nisan 2026 tarihlerinde ATO Congresium'da 
 gerÃ§ekleÅŸecek 5. UluslararasÄ± Ankara Marka 
 BuluÅŸmalarÄ±'nda Ãœniversitemiz stant aÃ§arak 
 ve â€˜GeleceÄŸin Yapay Zeka Temelli Teknolojik 
 AltyapÄ±larÄ±â€™ konulu paneliyle yer alacak.\n\n
 EtkinliÄŸi DÃ¼zenleyen: TanÄ±tÄ±m ve Kurumsal Ä°liÅŸkiler MÃ¼dÃ¼rlÃ¼ÄŸÃ¼\n
 Ä°letiÅŸim: Seher CERLET KASIM\n
 Telefon: 233 15 22\n
 E-Posta: scerlet@cankaya.edu.tr\n
LOCATION:Ãœniversite DÄ±ÅŸÄ±
END:VEVENT
END:VCALENDAR
