BEGIN:VCALENDAR
VERSION:2.0
METHOD:PUBLISH
PRODID:-//Virginia Tech//VTCalendar//EN
X-WR-CALNAME;VALUE=TEXT:Etkinlikler_Takvimi
BEGIN:VEVENT
DTSTAMP:20260505T113000Z
UID:1776335715464@https://www.cankaya.edu.tr/takvim/
CATEGORIES:Konferans
DTSTART:20260505T113000Z
DTEND:20260505T140000Z
SUMMARY:KÄ±zÄ± Timsal KARABEKÄ°R AnlatÄ±yor: HatÄ±ralarla KazÄ±m KARABEKÄ°R'in HayatÄ±
DESCRIPTION:KÄ±zÄ± Timsal KARABEKÄ°R AnlatÄ±yor: HatÄ±ralarla 
 KazÄ±m KARABEKÄ°R'in HayatÄ±\n\n
 EtkinliÄŸi DÃ¼zenleyen: Hukuk Fakultesi\n
LOCATION:Merkez KampÃ¼s KÄ±rmÄ±zÄ± Salon
END:VEVENT
END:VCALENDAR
