BEGIN:VCALENDAR
VERSION:2.0
METHOD:PUBLISH
PRODID:-//Virginia Tech//VTCalendar//EN
X-WR-CALNAME;VALUE=TEXT:Etkinlikler_Takvimi
BEGIN:VEVENT
DTSTAMP:20260421T080000Z
UID:1776680255823@https://www.cankaya.edu.tr/takvim/
CATEGORIES:DiÄŸer
DTSTART:20260421T080000Z
DTEND:20260421T140000Z
SUMMARY:X. Psikoloji GÃ¼nleri
DESCRIPTION:Ãœniversitemiz Ã–ÄŸrenci DekanlÄ±ÄŸÄ±/Sosyal ve 
 KÃ¼ltÃ¼rel Etkinlikler MÃ¼dÃ¼rlÃ¼ÄŸÃ¼/Psikoloji 
 TopluluÄŸu tarafÄ±ndan 20-21 Nisan 2026 
 tarihlerinde, Prof. Dr. TÃ¼lin GenÃ§Ã¶z, Prof. 
 Dr. Faruk GenÃ§Ã¶z, Dr. Ã–ÄŸr. Ãœyesi HÃ¼seyin 
 Nergiz, Berkay Muti, Dr. YaÄŸmur Ä°lgÃ¼n, 
 Dr. Selin Ayas, DoÃ§. Dr. Burcu Tekes TolungÃ¼Ã§'Ã¼n 
 katÄ±lÄ±mlarÄ±yla dÃ¼zenlenecek etkinliÄŸe 
 tÃ¼m Ã¶ÄŸrencilerimiz davetlidir.\n\n
 EtkinliÄŸi DÃ¼zenleyen: Kariyer Planlama ve KÃ¼ltÃ¼r Ä°ÅŸleri MÃ¼dÃ¼rlÃ¼ÄŸÃ¼\n
 Ä°letiÅŸim: Sosyal ve KÃ¼ltÃ¼rel Etkinlikler MÃ¼dÃ¼rlÃ¼ÄŸÃ¼\n
 Telefon: 2331290\n
 E-Posta: kultur@cankaya.edu.tr\n
LOCATION:Merkez KampÃ¼s Kongre ve KÃ¼ltÃ¼r Merkezi Ana Salonu
END:VEVENT
END:VCALENDAR
